BEGIN:VCALENDAR
VERSION:2.0
PRODID:-//Boise Basin Quilters - ECPv6.15.17.1//NONSGML v1.0//EN
CALSCALE:GREGORIAN
METHOD:PUBLISH
X-WR-CALNAME:Boise Basin Quilters
X-ORIGINAL-URL:https://www.boisebasinquilters.org
X-WR-CALDESC:Events for Boise Basin Quilters
REFRESH-INTERVAL;VALUE=DURATION:PT1H
X-Robots-Tag:noindex
X-PUBLISHED-TTL:PT1H
BEGIN:VTIMEZONE
TZID:America/Boise
BEGIN:DAYLIGHT
TZOFFSETFROM:-0700
TZOFFSETTO:-0600
TZNAME:MDT
DTSTART:20220313T090000
END:DAYLIGHT
BEGIN:STANDARD
TZOFFSETFROM:-0600
TZOFFSETTO:-0700
TZNAME:MST
DTSTART:20221106T080000
END:STANDARD
BEGIN:DAYLIGHT
TZOFFSETFROM:-0700
TZOFFSETTO:-0600
TZNAME:MDT
DTSTART:20230312T090000
END:DAYLIGHT
BEGIN:STANDARD
TZOFFSETFROM:-0600
TZOFFSETTO:-0700
TZNAME:MST
DTSTART:20231105T080000
END:STANDARD
BEGIN:DAYLIGHT
TZOFFSETFROM:-0700
TZOFFSETTO:-0600
TZNAME:MDT
DTSTART:20240310T090000
END:DAYLIGHT
BEGIN:STANDARD
TZOFFSETFROM:-0600
TZOFFSETTO:-0700
TZNAME:MST
DTSTART:20241103T080000
END:STANDARD
END:VTIMEZONE
BEGIN:VEVENT
DTSTART;TZID=America/Boise:20230427T103000
DTEND;TZID=America/Boise:20230427T173000
DTSTAMP:20260423T051142
CREATED:20230309T215239Z
LAST-MODIFIED:20230313T192658Z
UID:10000001-1682591400-1682616600@www.boisebasinquilters.org
SUMMARY:Dianne Kane “Round and Round and Round We Go”
DESCRIPTION:Workshop: Round and Round and Round We Go\nInstructor: Dianne Kane \nRegistration fee:\nBBQ members: $40\nNon-members: $50 (Enrollment Opens March 30th) \n  \nIf you have any questions about fabric selection\, please contact Dianne: call (360-693-3994) or email (DianneKane1@gmail.com). \nWorkshop Enrollment: enrollment ends on April 18; if there are vacancies as of March 30\, enrollment will be opened to non-members. Fees are $40 for BBQ members and $50 for non-members. \n  \nArtist Statement\n“When I grow up\, I want to be an artist.” I kept repeating that mantra for decades. Then in 1998\, my cousin Judy introduced me to her quilt camp and the addiction hit. I love all parts of the quilting process: the vision\, the fondling of the fabric\, the cutting\, the combining\, the quilting\, and the standing back to enjoy. Currently I can’t say I like just one type of quilt. I’m still experimenting with all types of contemporary approaches. And I admit to being my Mother’s daughter (with the need to create) and my Daddy’s daughter and Auntie R’Lue’s niece (with the need to collect and store everything). I currently live and play in Nampa\, Idaho. \nBecause I have that “need to create\,” I want to share my creations with others. I love seeing my work being enjoyed in the homes of the friends and family. \nDuring a recent Open Studio event\, I was able to share my work. It was fun to touch each piece and remember how “it came to be”. Now\, many of those pieces have found new homes. \nMy studio is filled with wonderful “hardware”. I have several little Singer Featherweight machines\, a Bernina that is almost always accessorized with a walking foot\, and a couple of sergers. The pièce de résistance is Junebug\, my APQS longarm quilting machine\, that finishes quilts for me and for my friends and family. \nThe “software” is a wall of fabric. We quilters call that a “stash”. There’s a lot in my stash. Sometimes I’m overwhelmed by the amount of projects waiting to be made\, and other times I am incredibility inspired by what’s around me.” \nVisit Dianne’s website diannekane.com to see a selection of her amazing quilts. \nQuestions about this workshop or suggestions for future workshops\, contact Lynne MacDonald programs@boisebasinquilters.org.
URL:https://www.boisebasinquilters.org/event/dianne-kane-round-and-round-and-round-we-go/
LOCATION:The Quilt Crossing\, 10959 W. Fairview Avenue\, Boise\, Idaho\, 83713
CATEGORIES:Workshops
ATTACH;FMTTYPE=image/jpeg:https://www.boisebasinquilters.org/wp-content/uploads/2023/03/RoundBlock-PaulaNadelsternFabrics-4-27-23-Workshop.jpg
END:VEVENT
END:VCALENDAR